
BEGIN:VCALENDAR
VERSION:2.0
PRODID:-//Stephanie Anne, Canadian Horror Author - ECPv6.15.20//NONSGML v1.0//EN
CALSCALE:GREGORIAN
METHOD:PUBLISH
X-WR-CALNAME:Stephanie Anne, Canadian Horror Author
X-ORIGINAL-URL:https://stephanieanneauthor.ca
X-WR-CALDESC:Events for Stephanie Anne, Canadian Horror Author
REFRESH-INTERVAL;VALUE=DURATION:PT1H
X-Robots-Tag:noindex
X-PUBLISHED-TTL:PT1H
BEGIN:VTIMEZONE
TZID:America/New_York
BEGIN:DAYLIGHT
TZOFFSETFROM:-0500
TZOFFSETTO:-0400
TZNAME:EDT
DTSTART:20250309T070000
END:DAYLIGHT
BEGIN:STANDARD
TZOFFSETFROM:-0400
TZOFFSETTO:-0500
TZNAME:EST
DTSTART:20251102T060000
END:STANDARD
BEGIN:DAYLIGHT
TZOFFSETFROM:-0500
TZOFFSETTO:-0400
TZNAME:EDT
DTSTART:20260308T070000
END:DAYLIGHT
BEGIN:STANDARD
TZOFFSETFROM:-0400
TZOFFSETTO:-0500
TZNAME:EST
DTSTART:20261101T060000
END:STANDARD
BEGIN:DAYLIGHT
TZOFFSETFROM:-0500
TZOFFSETTO:-0400
TZNAME:EDT
DTSTART:20270314T070000
END:DAYLIGHT
BEGIN:STANDARD
TZOFFSETFROM:-0400
TZOFFSETTO:-0500
TZNAME:EST
DTSTART:20271107T060000
END:STANDARD
END:VTIMEZONE
BEGIN:VEVENT
DTSTART;TZID=America/New_York:20260516T100000
DTEND;TZID=America/New_York:20260516T160000
DTSTAMP:20260421T044838
CREATED:20260330T004619Z
LAST-MODIFIED:20260401T005950Z
UID:11848-1778925600-1778947200@stephanieanneauthor.ca
SUMMARY:All Things Bookish Market
DESCRIPTION:
URL:https://stephanieanneauthor.ca/event/all-things-bookish-market/
LOCATION:Walter Baker Park\, 100 Charlie Rogers Pl\, Stittsville\, ON\, Canada
END:VEVENT
BEGIN:VEVENT
DTSTART;TZID=America/New_York:20260524T100000
DTEND;TZID=America/New_York:20260524T170000
DTSTAMP:20260421T044838
CREATED:20260418T125300Z
LAST-MODIFIED:20260418T125300Z
UID:11877-1779616800-1779642000@stephanieanneauthor.ca
SUMMARY:Geek Hoard Haul
DESCRIPTION:
URL:https://stephanieanneauthor.ca/event/geek-hoard-haul/
LOCATION:Sensplex Kanata\, 1565 Maple Grove Rd\, Ottawa\, ON\, Canada
END:VEVENT
BEGIN:VEVENT
DTSTART;TZID=America/New_York:20260531T130000
DTEND;TZID=America/New_York:20260531T160000
DTSTAMP:20260421T044838
CREATED:20260420T132338Z
LAST-MODIFIED:20260420T132338Z
UID:11907-1780232400-1780243200@stephanieanneauthor.ca
SUMMARY:Books on Tap
DESCRIPTION:
URL:https://stephanieanneauthor.ca/event/books-on-tap/
LOCATION:Beyond The Pale\, 106-250 City Centre Ave\, Ottawa\, ON\, Canada
END:VEVENT
END:VCALENDAR